BEGIN:VCALENDAR
VERSION:2.0
PRODID:-//eventon.com NONSGML v1.0//EN
CALSCALE:GREGORIAN
METHOD:PUBLISH
BEGIN:VEVENT
UID:69ea412de67cc
DTSTAMP:20260423T155629Z
DTSTART:20230325T010000Z
DTEND:20230325T050000Z
LOCATION:Buffalo Rose Event Center 1119 Washington Ave Golden\,  CO 80401
SUMMARY:Dolls In The Attic Aerosmith Tribute
DESCRIPTION:Dolls in the Attic is an all female Aerosmith tribute band. Emb
 odying the energy and character that has enchanted Aerosmith fans around th
 e globe\,  this group delivers a dynamic rock performance with class and sa
 ss. Michelle brings the vocal power of Steven Tyler to the stage. Ariadnee 
 shreds lead guitar[..]\nhttps://buffalorosegolden.com/events/dolls-in-the-a
 ttic-aerosmith-tribute/
URL:https://buffalorosegolden.com/events/dolls-in-the-attic-aerosmith-tribute/
END:VEVENT
END:VCALENDAR