BEGIN:VCALENDAR
VERSION:2.0
PRODID:-//eventon.com NONSGML v1.0//EN
CALSCALE:GREGORIAN
METHOD:PUBLISH
BEGIN:VEVENT
UID:69ebb2347e35b
DTSTAMP:20260424T181100Z
DTSTART:20260712T180000Z
DTEND:20260712T210000Z
LOCATION:Buffalo Rose Event Center 1119 Washington Ave Golden\,  CO 80401
SUMMARY:William Topley Acoustic Brunch
DESCRIPTION:DOORS 11:00am  •  18+ (Under 18 allowed with parent or gu
 ardian) Buffalo Rose presents an intimate Sunday Brunch with William Topley
 . Experience the power of raw\,  acoustic storytelling as Topley takes the 
 stage solo &#8211; no band\,  just voice\,  guitar\,  and the songs that de
 fined his career. This special performance highlights the[..]\nhttps://buff
 alorosegolden.com/events/william-topley/
URL:https://buffalorosegolden.com/events/william-topley/
END:VEVENT
END:VCALENDAR