BEGIN:VCALENDAR
VERSION:2.0
PRODID:-//eventon.com NONSGML v1.0//EN
CALSCALE:GREGORIAN
METHOD:PUBLISH
BEGIN:VEVENT
UID:69e4ed716e7a3
DTSTAMP:20260419T145753Z
DTSTART:20220904T220000Z
DTEND:20220905T010000Z
LOCATION:Sky Bar Stage 1119 Washington Ave Golden\,  CO 80401
SUMMARY:Wendy Woo (Solo)
DESCRIPTION:Join us for a FREE outdoor patio concert on the Sky Bar Stage a
 t the Buffalo Rose Restaurant Enjoy the sun and the views from our spectacu
 lar retractable roof in the Sky Bar Wendy Woo As Colorado’s music scene h
 as exploded over the past few years\,  one of its mainstays[..]\nhttps://bu
 ffalorosegolden.com/events/wendy-woo-solo-2/
URL:https://buffalorosegolden.com/events/wendy-woo-solo-2/
END:VEVENT
END:VCALENDAR