BEGIN:VCALENDAR
VERSION:2.0
PRODID:-//eventon.com NONSGML v1.0//EN
CALSCALE:GREGORIAN
METHOD:PUBLISH
BEGIN:VEVENT
UID:69e5e6b3f32de
DTSTAMP:20260420T084123Z
DTSTART:20250208T020000Z
DTEND:20250208T065900Z
LOCATION:Buffalo Rose Event Center 1119 Washington Ave Golden\,  CO 80401
SUMMARY:TEN YEARS GONE & FIRE AND ICE
DESCRIPTION:TEN YEARS GONE: A CELEBRATION OF THE MIGHTY LED ZEPPELIN &nbsp;
  Ten Years Gone – A Led Zeppelin Tribute brings all the sonic mastery and
  energy to authentically recreate the amazingly memorable Led Zeppelin expe
 rience in an exhilarating live show. By combining the best live performance
  and studio album sound\, [..]\nhttps://buffalorosegolden.com/events/ten-ye
 ars-gone-led-zeppelin-tribute-2/
URL:https://buffalorosegolden.com/events/ten-years-gone-led-zeppelin-tribute-2/
END:VEVENT
END:VCALENDAR