BEGIN:VCALENDAR
VERSION:2.0
PRODID:-//eventon.com NONSGML v1.0//EN
CALSCALE:GREGORIAN
METHOD:PUBLISH
BEGIN:VEVENT
UID:69ed87cbbd54f
DTSTAMP:20260426T033435Z
DTSTART:20230301T020000Z
DTEND:20230301T065000Z
LOCATION:Buffalo Rose Event Center 1119 Washington Ave Golden\,  CO 80401
SUMMARY:Stick Men
DESCRIPTION:STICK MEN Tony Levin and Pat Mastelotto\,  the powerhouse bass 
 and drums of the group King Crimson for a few decades\,  bring that traditi
 on to all their playing. Levin plays the Chapman Stick\,  from which the ba
 nd takes it’s name. Having bass and guitar strings\,  the Chapman Stick f
 unctions at[..]\nhttps://buffalorosegolden.com/events/stick-men/
URL:https://buffalorosegolden.com/events/stick-men/
END:VEVENT
END:VCALENDAR