BEGIN:VCALENDAR
VERSION:2.0
PRODID:-//eventon.com NONSGML v1.0//EN
CALSCALE:GREGORIAN
METHOD:PUBLISH
BEGIN:VEVENT
UID:69ea41c13721c
DTSTAMP:20260423T155857Z
DTSTART:20230817T000000Z
DTEND:20230817T030000Z
LOCATION:Sky Bar Stage 1119 Washington Ave Golden\,  CO 80401
SUMMARY:Mother Lode Band
DESCRIPTION:Mother Lode Band Mother Lode was formed in Colorado in 2003. Ma
 rk Simpson on Bass &amp; Vocals is the only remaining band member of the or
 iginal lineup &#8230; as the band has been evolving on and off stages acros
 s the front range ever since. Always a performance powerhouse\,  Mother Lod
 e[..]\nhttps://buffalorosegolden.com/events/mother-load-band-2/
URL:https://buffalorosegolden.com/events/mother-load-band-2/
END:VEVENT
END:VCALENDAR