BEGIN:VCALENDAR
VERSION:2.0
PRODID:-//eventon.com NONSGML v1.0//EN
CALSCALE:GREGORIAN
METHOD:PUBLISH
BEGIN:VEVENT
UID:69e4e74ea7727
DTSTAMP:20260419T143142Z
DTSTART:20251009T003000Z
DTEND:20251009T055900Z
LOCATION:Buffalo Rose Event Center 1119 Washington Ave Golden\,  CO 80401
SUMMARY:AFTER THE SNOWFALL - Ski Film from Matchstick Productions
DESCRIPTION:Toyota Presents\,  &#8220;After the Snowfall\, &#8221; a Matchs
 tick Production Meet the athletes and enter to win prizes from our sponsors
 \,  including skis\,  outerwear\,  and eyewear! *Special VIP tickets includ
 e premium seating and awesome gift packages from our partners. “After The
  Snowfall” is a celebration of skiing in its purest form\,  chronicling[.
 .]\nhttps://buffalorosegolden.com/events/after-the-snowfall-ski-film-from-m
 atchstick-productions/
URL:https://buffalorosegolden.com/events/after-the-snowfall-ski-film-from-matchstick-productions/
END:VEVENT
END:VCALENDAR