BEGIN:VCALENDAR
VERSION:2.0
PRODID:-//eventon.com NONSGML v1.0//EN
CALSCALE:GREGORIAN
METHOD:PUBLISH
BEGIN:VEVENT
UID:69eba0350ec69
DTSTAMP:20260424T165413Z
DTSTART:20241229T020000Z
DTEND:20241229T060000Z
LOCATION:Buffalo Rose Event Center 1119 Washington Ave Golden\,  CO 80401
SUMMARY:QUIET RIOT
DESCRIPTION:Over 15 Million Records Sold Worldwide METAL HEALTH &#8211; The
  First Heavy Metal Album in History to go to NUMBER 1 on the BILLBOARD TOP 
 200 Chart Over 2.8 Million Monthly SPOTIFY Listeners Over One Million Socia
 l Media Followers The Critically Acclaimed QUIET RIOT Documentary &#8220;We
 ll Now You&#8217;re Here\,  There&#8217;s[..]\nhttps://buffalorosegolden.co
 m/events/quiet-riot/
URL:https://buffalorosegolden.com/events/quiet-riot/
END:VEVENT
END:VCALENDAR