BEGIN:VCALENDAR
VERSION:2.0
PRODID:-//eventon.com NONSGML v1.0//EN
CALSCALE:GREGORIAN
METHOD:PUBLISH
BEGIN:VEVENT
UID:69e91dff9e9f5
DTSTAMP:20260422T191407Z
DTSTART:20251101T010000Z
DTEND:20251101T050000Z
LOCATION:Buffalo Rose Event Center 1119 Washington Ave Golden\,  CO 80401
SUMMARY:Shakedown Street & My Blue Sky
DESCRIPTION:SHAKEDOWN STREET : Tribute to The Grateful Dead For over 30 yea
 rs\,  Shakedown Street has been performing the immense catalog of the Grate
 ful Dead. The ever-shifting repertoire draws from homegrown idioms steeped 
 in traditional Americana\,  folk\,  blues\,  jazz\,  and rock and roll\,  w
 ith a healthy dose of the avant-garde. Dig[..]\nhttps://buffalorosegolden.c
 om/events/shakedown-street-my-blue-sky/
URL:https://buffalorosegolden.com/events/shakedown-street-my-blue-sky/
END:VEVENT
END:VCALENDAR