BEGIN:VCALENDAR
VERSION:2.0
PRODID:-//eventon.com NONSGML v1.0//EN
CALSCALE:GREGORIAN
METHOD:PUBLISH
BEGIN:VEVENT
UID:69e9a83f606bc
DTSTAMP:20260423T050359Z
DTSTART:20250725T010000Z
DTEND:20250725T055900Z
LOCATION:Buffalo Rose Event Center 1119 Washington Ave Golden\,  CO 80401
SUMMARY:Buckstein - Buffalo Bill Days Kick Off Party
DESCRIPTION:Colorado grown &#8211; Born and raised at 5280. “I don’t li
 ke country music but I like you.” He gets that a lot. Randomly. He can’
 t really tell you why. Maybe it’s that “no-fear-of-the-edge” mentalit
 y that hooks the non-country-lovin’ folk while he manages to maintain a b
 alance of traditional vibes that[..]\nhttps://buffalorosegolden.com/events/
 buckstein/
URL:https://buffalorosegolden.com/events/buckstein/
END:VEVENT
END:VCALENDAR