BEGIN:VCALENDAR
VERSION:2.0
PRODID:-//eventon.com NONSGML v1.0//EN
CALSCALE:GREGORIAN
METHOD:PUBLISH
BEGIN:VEVENT
UID:69ed5fb990eec
DTSTAMP:20260426T004337Z
DTSTART:20251201T010000Z
DTEND:20251201T065900Z
LOCATION:Buffalo Rose Event Center 1119 Washington Ave Golden\,  CO 80401
SUMMARY:David Arkenstone
DESCRIPTION:A Winter’s Eve with David Arkenstone &amp; Friends Multi-GRAM
 MY Award® Nominee David Arkenstone returns to Colorado with his enchanting
  holiday concert A Winter’s Eve with David Arkenstone &amp; Friends. Join
  David Arkenstone and his band of virtuoso musicians for this lively candle
 lit concert of beloved holiday classics reimagined\,  blending neo-classica
 l[..]\nhttps://buffalorosegolden.com/events/david-arkenstone/
URL:https://buffalorosegolden.com/events/david-arkenstone/
END:VEVENT
END:VCALENDAR