BEGIN:VCALENDAR
VERSION:2.0
PRODID:-//eventon.com NONSGML v1.0//EN
CALSCALE:GREGORIAN
METHOD:PUBLISH
BEGIN:VEVENT
UID:69eb2bcb8a28f
DTSTAMP:20260424T083731Z
DTSTART:20250105T210000Z
DTEND:20250106T020000Z
LOCATION:Buffalo Rose Event Center 1119 Washington Ave Golden\,  CO 80401
SUMMARY:Austin Young Family Benefit & Fundraiser
DESCRIPTION:Making a Difference: A Hand Up for Austin Young &amp; Family &n
 bsp; Colorado’s own Austin Young has thrilled us with his music for over 
 15 years. We’ve had the opportunity to see him grow from playing small cl
 ubs like the Toad Tavern\,  Crystola Roadhouse and Johnny’s Navajo Hogan 
 to headlining[..]\nhttps://buffalorosegolden.com/events/making-a-difference
 -a-hand-up-for-austin-young-family/
URL:https://buffalorosegolden.com/events/making-a-difference-a-hand-up-for-austin-young-family/
END:VEVENT
END:VCALENDAR