BEGIN:VCALENDAR
VERSION:2.0
PRODID:-//eventon.com NONSGML v1.0//EN
CALSCALE:GREGORIAN
METHOD:PUBLISH
BEGIN:VEVENT
UID:69e904c8df28b
DTSTAMP:20260422T172632Z
DTSTART:20250215T020000Z
DTEND:20250215T065900Z
LOCATION:Buffalo Rose Event Center 1119 Washington Ave Golden\,  CO 80401
SUMMARY:Spinphony Electric String Quartet
DESCRIPTION:Spinphony Electric String Quartet A Special Valentines Presenta
 tion Instrumental crossover string group “Spinphony” is breaking down b
 arriers between classical\,  rock\,  and pop music. Mixing and mashing catc
 hy melodies into unique arrangements such as &#8220;Bach in Black&#8221; an
 d &#8220;Don&#8217;t Stop Beethoven&#8221;\,  Spinphony is more like a rock
  band than a string[..]\nhttps://buffalorosegolden.com/events/spinphony-ele
 ctric-string-quartet/
URL:https://buffalorosegolden.com/events/spinphony-electric-string-quartet/
END:VEVENT
END:VCALENDAR