BEGIN:VCALENDAR
VERSION:2.0
PRODID:-//eventon.com NONSGML v1.0//EN
CALSCALE:GREGORIAN
METHOD:PUBLISH
BEGIN:VEVENT
UID:69e8e61732b99
DTSTAMP:20260422T151535Z
DTSTART:20250422T233000Z
DTEND:20250423T055900Z
LOCATION:The State Room 1119 Washington Ave Golden\,  CO 80401
SUMMARY:Whiskey on Washington
DESCRIPTION:What happens when you combine delicious plates of gourmet food 
 with the very best whiskeys that Colorado has to offer\,  all served up in 
 a beautiful private room in one of Golden&#8217;s most iconic venues? You G
 et: Whiskey on Washington! An Evening with Breckenridge Distillery 5 Expres
 sions of Breckenridge Spirits[..]\nhttps://buffalorosegolden.com/events/whi
 skey-on-washington-breckenridge/
URL:https://buffalorosegolden.com/events/whiskey-on-washington-breckenridge/
END:VEVENT
END:VCALENDAR