BEGIN:VCALENDAR
VERSION:2.0
PRODID:-//eventon.com NONSGML v1.0//EN
CALSCALE:GREGORIAN
METHOD:PUBLISH
BEGIN:VEVENT
UID:69e8bd2a7e063
DTSTAMP:20260422T122058Z
DTSTART:20250426T010000Z
DTEND:20250426T053000Z
LOCATION:Buffalo Rose Event Center 1119 Washington Ave Golden\,  CO 80401
SUMMARY:Bullet the Blue Sky & ColdReplay
DESCRIPTION:BULLET THE BLUE SKY The Ultimate U2 Experience Bullet The Blue 
 Sky delivers an incredible U2 tribute experience\,  capturing the raw energ
 y\,  spiritual intensity\,  and musical innovation that made U2 one of rock
 &#8217;s most influential bands. Based in Denver Colorado\,  this four-piec
 e ensemble recreates the unmistakable sound\,  visuals and electrifying[..]
 \nhttps://buffalorosegolden.com/events/bullet-the-blue-sky/
URL:https://buffalorosegolden.com/events/bullet-the-blue-sky/
END:VEVENT
END:VCALENDAR