BEGIN:VCALENDAR
VERSION:2.0
PRODID:-//eventon.com NONSGML v1.0//EN
CALSCALE:GREGORIAN
METHOD:PUBLISH
BEGIN:VEVENT
UID:69e9ddde04bd0
DTSTAMP:20260423T085246Z
DTSTART:20250727T160000Z
DTEND:20250727T190000Z
LOCATION:
SUMMARY:Bluegrass Brunch : Micrograss
DESCRIPTION:Sunday Bluegrass Brunch at The Buffalo Rose with Micrograss Wak
 e up your Sunday with mountain music and mouthwatering flavors! Join us eve
 ry Sunday for an authentic Colorado experience where locally-sourced breakf
 ast meets toe-tapping bluegrass. MicroGrass brings the patio alive from 10 
 AM to 1 PM with their tight harmonies and[..]\nhttps://buffalorosegolden.co
 m/events/bluegrass-brunch-micrograss/
URL:https://buffalorosegolden.com/events/bluegrass-brunch-micrograss/
END:VEVENT
END:VCALENDAR