BEGIN:VCALENDAR
VERSION:2.0
PRODID:-//eventon.com NONSGML v1.0//EN
CALSCALE:GREGORIAN
METHOD:PUBLISH
BEGIN:VEVENT
UID:69e91ff88e90d
DTSTAMP:20260422T192232Z
DTSTART:20251028T230000Z
DTEND:20251029T030000Z
LOCATION:
SUMMARY:Après Inferno: Launch of Winter
DESCRIPTION:Event by Icelantic Skis and Powder7 Buffalo Rose Duration: 4 hr
  Public · Anyone on or off Facebook Join Powder7\,  Icelantic Skis\,  and 
 FREESKIER for Après Inferno: Launch of Winter! Our annual season-kickoff p
 arty is back at the Buffalo Rose in Golden\,  CO — October 28 from 5–9 
 PM. This[..]\nhttps://buffalorosegolden.com/events/apres-inferno-launch-of-
 winter/
URL:https://buffalorosegolden.com/events/apres-inferno-launch-of-winter/
END:VEVENT
END:VCALENDAR