BEGIN:VCALENDAR
VERSION:2.0
PRODID:-//eventon.com NONSGML v1.0//EN
CALSCALE:GREGORIAN
METHOD:PUBLISH
BEGIN:VEVENT
UID:69e8f42773e5c
DTSTAMP:20260422T161535Z
DTSTART:20251218T011500Z
DTEND:20251218T050000Z
LOCATION:Buffalo Rose Event Center 1119 Washington Ave Golden\,  CO 80401
SUMMARY:An Evening with Jefferson Symphony Orchestra
DESCRIPTION:Jefferson Symphony Orchestra presents A Holiday Evening with th
 e Jefferson Symphony Orchestra Join us for an enchanting evening of music a
 nd fine dining at the Buffalo Rose in historic downtown Golden\,  Colorado 
 on Wednesday\,  December 17\,  2025. Now in its 73rd season\,  the Jefferso
 n Symphony Orchestra—under the inspired direction of[..]\nhttps://buffalo
 rosegolden.com/events/an-evening-with-jefferson-symphony-orchestra/
URL:https://buffalorosegolden.com/events/an-evening-with-jefferson-symphony-orchestra/
END:VEVENT
END:VCALENDAR